BEGIN:VCALENDAR
VERSION:2.0
PRODID:-//City of Tukwila - ECPv6.15.20//NONSGML v1.0//EN
CALSCALE:GREGORIAN
METHOD:PUBLISH
X-WR-CALNAME:City of Tukwila
X-ORIGINAL-URL:https://www.tukwilawa.gov
X-WR-CALDESC:Events for City of Tukwila
REFRESH-INTERVAL;VALUE=DURATION:PT1H
X-Robots-Tag:noindex
X-PUBLISHED-TTL:PT1H
BEGIN:VTIMEZONE
TZID:UTC
BEGIN:STANDARD
TZOFFSETFROM:+0000
TZOFFSETTO:+0000
TZNAME:UTC
DTSTART:20150101T000000
END:STANDARD
END:VTIMEZONE
BEGIN:VEVENT
DTSTART;TZID=UTC:20160520T093000
DTEND;TZID=UTC:20160520T113000
DTSTAMP:20260420T061319
CREATED:20160425T165703Z
LAST-MODIFIED:20160425T165703Z
UID:10003519-1463736600-1463743800@www.tukwilawa.gov
SUMMARY:Public Hearing - Rau Lot Size Variance
DESCRIPTION:Hearing Date: A public hearing will be held on May 20th at \n9:30 am in the Rainier Conference Room in the DCD Offices\, 6300 Southcenter Blvd.\, Suite 100. \nProject Description: The applicant requests a zoning code variance to build one single-family home on a 6000 square foot lot\, which does not meet the Low Density Residential (LDR) lot size minimum of 6500 square feet. Project site marked with star on the map. \nYour written comments on the project are requested and can be delivered to DCD\, 6300 Southcenter Blvd\, Ste 100\, Tukwila WA 98188. Comments must be received by 5:00p.m. on May 9\, 2016. You may request a copy of any decision\, comment on the project\, and learn your appeal rights by calling the project planner listed above\, or by visiting our offices Monday through Friday\,  8:00am to 5:00 pm at DCD 6300 Southcenter Blvd\, Ste 100. \nSee link for more information:   http://records.tukwilawa.gov/WebLink8/1/doc/271223/Electronic.aspx \n 
URL:https://www.tukwilawa.gov/event/public-hearing-rau-lot-size-variance/
LOCATION:Tukwila City Hall – Rainier Conference Room\, 6300 Southcenter Boulevard #100\, Tukwila\, 98188
CATEGORIES:Public Hearing
GEO:47.4628998;-122.2546935
X-APPLE-STRUCTURED-LOCATION;VALUE=URI;X-ADDRESS=Tukwila City Hall – Rainier Conference Room 6300 Southcenter Boulevard #100 Tukwila 98188;X-APPLE-RADIUS=500;X-TITLE=6300 Southcenter Boulevard #100:geo:-122.2546935,47.4628998
END:VEVENT
END:VCALENDAR