BEGIN:VCALENDAR
VERSION:2.0
PRODID:-//City of Tukwila - ECPv6.15.20//NONSGML v1.0//EN
CALSCALE:GREGORIAN
METHOD:PUBLISH
X-ORIGINAL-URL:https://www.tukwilawa.gov
X-WR-CALDESC:Events for City of Tukwila
REFRESH-INTERVAL;VALUE=DURATION:PT1H
X-Robots-Tag:noindex
X-PUBLISHED-TTL:PT1H
BEGIN:VTIMEZONE
TZID:America/Los_Angeles
BEGIN:DAYLIGHT
TZOFFSETFROM:-0800
TZOFFSETTO:-0700
TZNAME:PDT
DTSTART:20190310T100000
END:DAYLIGHT
BEGIN:STANDARD
TZOFFSETFROM:-0700
TZOFFSETTO:-0800
TZNAME:PST
DTSTART:20191103T090000
END:STANDARD
BEGIN:DAYLIGHT
TZOFFSETFROM:-0800
TZOFFSETTO:-0700
TZNAME:PDT
DTSTART:20200308T100000
END:DAYLIGHT
BEGIN:STANDARD
TZOFFSETFROM:-0700
TZOFFSETTO:-0800
TZNAME:PST
DTSTART:20201101T090000
END:STANDARD
BEGIN:DAYLIGHT
TZOFFSETFROM:-0800
TZOFFSETTO:-0700
TZNAME:PDT
DTSTART:20210314T100000
END:DAYLIGHT
BEGIN:STANDARD
TZOFFSETFROM:-0700
TZOFFSETTO:-0800
TZNAME:PST
DTSTART:20211107T090000
END:STANDARD
END:VTIMEZONE
BEGIN:VEVENT
DTSTART;TZID=America/Los_Angeles:20200804T100000
DTEND;TZID=America/Los_Angeles:20200804T120000
DTSTAMP:20260423T195545
CREATED:20200717T182324Z
LAST-MODIFIED:20210112T193822Z
UID:10005931-1596535200-1596542400@www.tukwilawa.gov
SUMMARY:Hearing Examiner Public Hearing
DESCRIPTION:Notice is hearby given that the Hearing Examiner will hold a virtual public hearing at 10 am on August 4th\, 2020 to discuss the following: \n\nCase Number: L20-0035\nPurpose: Conditional Use Public Hearing for construction of two new modular buildings housing 5 classrooms and 1 administration office as an expansion of the existing Impact Public School located at 3438 S 148th St.\nLocation: 14606 35th Ave S\n\nThe meeting will  not  be conducted at Tukwila City Hall\, based on the Governor’s Proclamation 20-28 adopted March 24\, 2020 which says in part: \n“Any public agency\, subject to RCW 42.30\, is  prohibited from conducting any meeting\, subject to RCW 42.30  unless  (a) the meeting is  not conducted in-person  and instead provides an option(s) for the public to attend the proceedings through\, at minimum\, telephonic access\, . . .” \nThose wishing to provide public comments at the above meeting will have the opportunity to deliver comments via email\, or verbally via telephone or online during the meeting: \nWritten Comments:  All written comments received by email to Meredith.Sampson@TukwilaWA.gov prior to 5:00 pm on August 3rd will be included in the review. \nVerbal Comments: Sign up to verbally deliver your comments during the meeting by 5:00 pm on August 3rd. \nTo participate in the Virtual Meeting at 10 am: \n\nBy phone: Dial +1 253-292-9750\,\nConference ID: 695 662 922#\nOnline: To join the meeting online click here\n\nFor technical support during the meeting you may call 1-206-433-7155. \nInformation on the above case may be obtained by emailing Meredith.Sampson@TukwilaWA.gov or calling 206-431-3661.
URL:https://www.tukwilawa.gov/event/hearing-examiner-public-hearing-aug-4-2020/
LOCATION:Virtual/Online\, United States
CATEGORIES:Public Hearing
ORGANIZER;CN="Meredith Sampson":MAILTO:Meredith.Sampson@TukwilaWA.gov
END:VEVENT
BEGIN:VEVENT
DTSTART;TZID=America/Los_Angeles:20200723T183000
DTEND;TZID=America/Los_Angeles:20200723T210000
DTSTAMP:20260423T195545
CREATED:20191210T212746Z
LAST-MODIFIED:20200707T212534Z
UID:10005819-1595529000-1595538000@www.tukwilawa.gov
SUMMARY:Planning Commission
DESCRIPTION:City of Tukwila\nPUBLIC HEARING NOTICE \nThe Planning Commission acts as the land use advisory body for the City Council and reviews and makes recommendations to the City Council on the City’s Comprehensive Plan\, Shoreline Plan\, Subdivision\, Zoning and Sign Codes. \nNotice is hereby given that the City of Tukwila Planning Commission will hold a virtual public hearing at 6:30 p.m. on\, July 23\, 2020 to discuss the following: \n\nCASE NUMBER:     L20-0011\nPURPOSE:     Design Review Public Hearing for construction of new 2-story office and warehouse building with associated site improvements.\nLOCATION:     14027 Interurban Ave S\n\nSee the meeting agenda packet and minutes  here. \nThe meeting will not be conducted at Tukwila City Hall\, based on the Governor’s Proclamation 20-28 adopted March 24\, 2020 which says in part: \n“Any public agency\, subject to RCW 42.30\, is prohibited from conducting any meeting\, subject to RCW 42.30 unless (a) the meeting is not conducted in-person and instead provides an option(s) for the public to attend the proceedings through\, at minimum\, telephonic access\, . . .” \nThose wishing to provide public comments at the above meeting will have the opportunity to deliver comments via email\, or verbally via telephone or online during the meeting: \nWritten Comments: All written comments received by email to Max.Baker@TukwilaWA.gov prior to 5:00 p.m. on July 23 will be read aloud during the meeting by City staff within the normal five-minute time limit. \nVerbal Comments: Sign up to verbally deliver your comments during the meeting by 5:00 p.m. on July 23 using Signup Genius at link. \nTo Participate in the Virtual Meeting at 6:30 p.m.: \n\nBy Phone: Dial +1 253-292-9750\, Access Code 983474153#\nOnline: To join the meeting online click here: Join Microsoft Teams Meeting\n\n  For technical support during the meeting you may call 1-206-433-7155. \nInformation on the above case may be obtained by emailing Max.Baker@TukwilaWA.gov or calling 206-431-3683. The City encourages you to notify your neighbors and other persons you believe would be affected by the above items.
URL:https://www.tukwilawa.gov/event/planning-commission-10-2020-07-23/
LOCATION:Virtual/Online\, United States
CATEGORIES:Meeting
END:VEVENT
BEGIN:VEVENT
DTSTART;TZID=America/Los_Angeles:20200423T183000
DTEND;TZID=America/Los_Angeles:20200423T210000
DTSTAMP:20260423T195545
CREATED:20191210T212746Z
LAST-MODIFIED:20200415T165846Z
UID:10005829-1587666600-1587675600@www.tukwilawa.gov
SUMMARY:Planning Commission
DESCRIPTION:City of Tukwila\nPUBLIC HEARING NOTICE \nThe Planning Commission acts as the land use advisory body for the City Council and reviews and makes recommendations to the City Council on the City’s Comprehensive Plan\, Shoreline Plan\, Subdivision\, Zoning and Sign Codes. \nNotice is hereby given that the City of Tukwila Planning Commission will hold a virtual public hearing at 6:30 p.m. on\, April 23\, 2020 to discuss the following: \nCASE NUMBER:                   L20-0015 \nPURPOSE:                                    Consider zoning code amendments restricting or prohibiting certain     auto-oriented and lodging uses currently prohibited by Ordinance 2620\, to implement the Tukwila International Boulevard (TIB) Element of the Comprehensive Plan. \nLOCATION:                                Neighborhood Commercial Center (NCC) and Regional Commercial (RC) zones in the TIB Study Area \nSee the meeting agenda packet and minutes  here. \nThe meeting will not be conducted at Tukwila City Hall\, based on the Governor’s Proclamation 20-28 adopted March 24\, 2020 which says in part: \n“Any public agency\, subject to RCW 42.30\, is prohibited from conducting any meeting\, subject to RCW 42.30 unless (a) the meeting is not conducted in-person and instead provides an option(s) for the public to attend the proceedings through\, at minimum\, telephonic access\, . . .” \nThose wishing to provide public comments at the above meeting will have the opportunity to deliver comments via email\, or verbally via telephone or online during the meeting: \nWritten Comments: All written comments received by email to Lynn.Miranda@Tukwilawa.gov prior to 5:00 p.m. on April 23 will be read aloud during the meeting by City staff within the normal five-minute time limit. \nVerbal Comments: Sign up to verbally deliver your comments during the meeting by 5:00 p.m. on April 23 using Signup Genius at link. \nTo Participate in the Virtual Meeting at 6:30 p.m.: \n\nBy Phone: Dial +1 253-292-9750\, Access Code 8108779\nOnline: To join the meeting online click here Join Microsoft Teams Meeting\n\n  For technical support during the meeting you may call 1-206-433-7155. \nInformation on the above case may be obtained by emailing Lynn.Miranda@Tukwilawa.gov or calling 206-433-7162. The City encourages you to notify your neighbors and other persons you believe would be affected by the above items. \n 
URL:https://www.tukwilawa.gov/event/planning-commission-10-2020-04-23-2/
LOCATION:Virtual/Online\, United States
CATEGORIES:Meeting
END:VEVENT
END:VCALENDAR